BEGIN:VCALENDAR
VERSION:2.0
PRODID:-//The Circle - ECPv6.15.20//NONSGML v1.0//EN
CALSCALE:GREGORIAN
METHOD:PUBLISH
X-WR-CALNAME:The Circle
X-ORIGINAL-URL:https://thecircle.sa.gov.au
X-WR-CALDESC:Events for The Circle
REFRESH-INTERVAL;VALUE=DURATION:PT1H
X-Robots-Tag:noindex
X-PUBLISHED-TTL:PT1H
BEGIN:VTIMEZONE
TZID:Australia/Adelaide
BEGIN:STANDARD
TZOFFSETFROM:+1030
TZOFFSETTO:+0930
TZNAME:ACST
DTSTART:20250405T163000
END:STANDARD
BEGIN:DAYLIGHT
TZOFFSETFROM:+0930
TZOFFSETTO:+1030
TZNAME:ACDT
DTSTART:20251004T163000
END:DAYLIGHT
BEGIN:STANDARD
TZOFFSETFROM:+1030
TZOFFSETTO:+0930
TZNAME:ACST
DTSTART:20260404T163000
END:STANDARD
BEGIN:DAYLIGHT
TZOFFSETFROM:+0930
TZOFFSETTO:+1030
TZNAME:ACDT
DTSTART:20261003T163000
END:DAYLIGHT
BEGIN:STANDARD
TZOFFSETFROM:+1030
TZOFFSETTO:+0930
TZNAME:ACST
DTSTART:20270403T163000
END:STANDARD
BEGIN:DAYLIGHT
TZOFFSETFROM:+0930
TZOFFSETTO:+1030
TZNAME:ACDT
DTSTART:20271002T163000
END:DAYLIGHT
END:VTIMEZONE
BEGIN:VEVENT
DTSTART;TZID=Australia/Adelaide:20260901T090000
DTEND;TZID=Australia/Adelaide:20260901T100000
DTSTAMP:20260420T225036
CREATED:20260220T050543Z
LAST-MODIFIED:20260220T050543Z
UID:6013-1788253200-1788256800@thecircle.sa.gov.au
SUMMARY:Office of the Industry Advocate - Tender for Success: Fundamentals
DESCRIPTION:Tender for Success – Fundamentals \nReady to unlock opportunities in the South Australian Government market? This foundational training will equip you with the essential knowledge and practical strategies to successfully navigate government procurement processes. \n  \nWhat You’ll Learn: \nGain a comprehensive understanding of SA Government procurement\, from initial engagement through to winning and retaining contracts. This interactive session covers: \n\nProcurement Process Overview – Navigate the key phases and understand procurement thresholds that shape your approach\n101 of influencing Government Buyers – Learn who to talk to\, how to engage efficiently\, and why the specification is critical to your success\nMastering the RFQ – Step-by-step guidance on responding to Requests for Quotation (targeted at contracts under $550k)\nInside the Evaluation Process – Gain valuable insights and observations from real SA Government evaluation panels\nReading the Signs – Identify indicators that your bid is on track (or needs adjustment)\nWinning Beyond the First Contract – Discover how effective contract management and relationship building create pathways to future opportunities\nBest Practice Engagement with OIA – Key takeaways on leveraging support and resources\nQ&A – The session includes dedicated Q&A time to address your specific questions and challenges.\n \n\nWho Should Attend: \nBusinesses new to government procurement\, suppliers looking to strengthen their approach\, and anyone seeking to understand the fundamentals of selling to SA Government.
URL:https://thecircle.sa.gov.au/event/office-of-the-industry-advocate-tender-for-success-fundamentals-2/
LOCATION:Lot Fourteen\, TechCentral building\, Frome Road\, ADELAIDE\, SA\, 5000\, Australia
ATTACH;FMTTYPE=image/png:https://thecircle.sa.gov.au/wp-content/uploads/2026/02/OIA-TFS-F.png
ORGANIZER;CN="Office of the Industry Advocate":MAILTO:oia@sa.gov.au
END:VEVENT
END:VCALENDAR