BEGIN:VCALENDAR
VERSION:2.0
PRODID:-//The Circle - ECPv6.15.20//NONSGML v1.0//EN
CALSCALE:GREGORIAN
METHOD:PUBLISH
X-WR-CALNAME:The Circle
X-ORIGINAL-URL:https://thecircle.sa.gov.au
X-WR-CALDESC:Events for The Circle
REFRESH-INTERVAL;VALUE=DURATION:PT1H
X-Robots-Tag:noindex
X-PUBLISHED-TTL:PT1H
BEGIN:VTIMEZONE
TZID:Australia/Adelaide
BEGIN:STANDARD
TZOFFSETFROM:+1030
TZOFFSETTO:+0930
TZNAME:ACST
DTSTART:20250405T163000
END:STANDARD
BEGIN:DAYLIGHT
TZOFFSETFROM:+0930
TZOFFSETTO:+1030
TZNAME:ACDT
DTSTART:20251004T163000
END:DAYLIGHT
BEGIN:STANDARD
TZOFFSETFROM:+1030
TZOFFSETTO:+0930
TZNAME:ACST
DTSTART:20260404T163000
END:STANDARD
BEGIN:DAYLIGHT
TZOFFSETFROM:+0930
TZOFFSETTO:+1030
TZNAME:ACDT
DTSTART:20261003T163000
END:DAYLIGHT
BEGIN:STANDARD
TZOFFSETFROM:+1030
TZOFFSETTO:+0930
TZNAME:ACST
DTSTART:20270403T163000
END:STANDARD
BEGIN:DAYLIGHT
TZOFFSETFROM:+0930
TZOFFSETTO:+1030
TZNAME:ACDT
DTSTART:20271002T163000
END:DAYLIGHT
END:VTIMEZONE
BEGIN:VEVENT
DTSTART;VALUE=DATE:20260527
DTEND;VALUE=DATE:20260604
DTSTAMP:20260420T185121
CREATED:20260127T021920Z
LAST-MODIFIED:20260127T021920Z
UID:5855-1779840000-1780531199@thecircle.sa.gov.au
SUMMARY:Reconciliation Australia - National Reconciliation Week 2026
DESCRIPTION:All In for National Reconciliation Week 2026\n  \nThe theme for National Reconciliation Week 2026 is All In\, a call for all Australians to commit wholeheartedly to reconciliation every single day. \nAll In makes clear that reconciliation is not a spectator sport and that all of us must step away from the sidelines and take action to make change. \nThe theme also reminds us that reconciliation and advancing Aboriginal and Torres Strait Islander peoples’ rights isn’t a passive activity\, and it is not solely the responsibility of First Nations people\, who have carried the weight of championing\, explaining and acting for far too long. \nReconciliation will not happen by itself\, and it will not happen without all of us. \nThe #NRW2026 campaign was created in collaboration with Carbon Creative\, a First Nations-owned and operated marketing and creative agency. \nThe artwork for this campaign is by renowned Gumbaynggirr/Bundjalung artist Otis Hope Carey\, who applied his distinctive style to create a colourful and optimistic visual representation of people from all walks of life being ‘all in’ to make change.
URL:https://thecircle.sa.gov.au/event/reconciliation-australia-national-reconciliation-week-2026/
ATTACH;FMTTYPE=image/png:https://thecircle.sa.gov.au/wp-content/uploads/2026/01/RSA-NRW.png
END:VEVENT
BEGIN:VEVENT
DTSTART;TZID=Australia/Adelaide:20260527T070000
DTEND;TZID=Australia/Adelaide:20260527T090000
DTSTAMP:20260420T185121
CREATED:20260127T021316Z
LAST-MODIFIED:20260127T021316Z
UID:5851-1779865200-1779872400@thecircle.sa.gov.au
SUMMARY:Reconciliation SA - The 2026 National Reconciliation Week Breakfast
DESCRIPTION:Reconciliation SA is once again thrilled to host the National Reconciliation Week Breakfast in Tandanya/Adelaide in 2026. \nEvery year Reconciliation SA hosts a breakfast on the first day of National Reconciliation Week. Now the largest reconciliation breakfast in Australia\, this year’s event will attract 3\,000 guests from different communities across the state. Our breakfast is an opportunity to hear from state and national leaders about efforts to strengthen reconciliation across the country as well as celebrate our achievements and thank our supporters. It is an educational and insightful event that serves to motivate and inspire its participants to grow their reconciliation work within their communities. Our event program includes speeches and curated entertainment including musicians\, dancers and visual artists. Guests are also encouraged to participate in a Smoking Ceremony and peruse the marketplace of local Aboriginal and Torres Strait Islander owned businesses. \nNational Reconciliation Week (NRW) is a time for all Australians to learn about our shared histories\, cultures\, and achievements\, and to explore how each of us can contribute to achieving reconciliation in Australia. \nTickets on sale \n\nMarch 25 (members early access)\nMarch 26 (general)
URL:https://thecircle.sa.gov.au/event/reconciliation-sa-the-2026-national-reconciliation-week-breakfast/
LOCATION:Adelaide Convention Centre\, Halls F\, G & H\, Adelaide Convention Centre\, North Terrace\, Adelaide\, SA\, 5000\, Australia
ATTACH;FMTTYPE=image/png:https://thecircle.sa.gov.au/wp-content/uploads/2026/01/RSA-NRWB.png
ORGANIZER;CN="Reconciliation SA":MAILTO:admin@reconciliationsa.org.au
END:VEVENT
END:VCALENDAR