BEGIN:VCALENDAR
VERSION:2.0
PRODID:-//The Circle - ECPv6.15.20//NONSGML v1.0//EN
CALSCALE:GREGORIAN
METHOD:PUBLISH
X-WR-CALNAME:The Circle
X-ORIGINAL-URL:https://thecircle.sa.gov.au
X-WR-CALDESC:Events for The Circle
REFRESH-INTERVAL;VALUE=DURATION:PT1H
X-Robots-Tag:noindex
X-PUBLISHED-TTL:PT1H
BEGIN:VTIMEZONE
TZID:Australia/Adelaide
BEGIN:STANDARD
TZOFFSETFROM:+1030
TZOFFSETTO:+0930
TZNAME:ACST
DTSTART:20250405T163000
END:STANDARD
BEGIN:DAYLIGHT
TZOFFSETFROM:+0930
TZOFFSETTO:+1030
TZNAME:ACDT
DTSTART:20251004T163000
END:DAYLIGHT
BEGIN:STANDARD
TZOFFSETFROM:+1030
TZOFFSETTO:+0930
TZNAME:ACST
DTSTART:20260404T163000
END:STANDARD
BEGIN:DAYLIGHT
TZOFFSETFROM:+0930
TZOFFSETTO:+1030
TZNAME:ACDT
DTSTART:20261003T163000
END:DAYLIGHT
BEGIN:STANDARD
TZOFFSETFROM:+1030
TZOFFSETTO:+0930
TZNAME:ACST
DTSTART:20270403T163000
END:STANDARD
BEGIN:DAYLIGHT
TZOFFSETFROM:+0930
TZOFFSETTO:+1030
TZNAME:ACDT
DTSTART:20271002T163000
END:DAYLIGHT
END:VTIMEZONE
BEGIN:VEVENT
DTSTART;TZID=Australia/Adelaide:20260526T093000
DTEND;TZID=Australia/Adelaide:20260526T123000
DTSTAMP:20260420T190358
CREATED:20260414T233906Z
LAST-MODIFIED:20260414T233906Z
UID:6368-1779787800-1779798600@thecircle.sa.gov.au
SUMMARY:Indigenous Business Australia – Create a Lean Business Plan – VIRTUAL
DESCRIPTION:In the final workshop of the series\, participants bring together information gained from the other workshops and their own research. \nUsing their business development learner guide\, participants will develop a lean business plan and showcase their business. \nTopics include:\n• what\, why\, when and who wants one\n• types of business plans\n• what is your X factor\n• lean business plan components\n• SMART goal setting. \nWith your lean business plan and business development learner guide\, you should be able to clearly explain your business to others and identify what resources you will need to take the next steps in starting your business.
URL:https://thecircle.sa.gov.au/event/indigenous-business-australia-create-a-lean-business-plan-virtual-8/
LOCATION:Online
ATTACH;FMTTYPE=image/png:https://thecircle.sa.gov.au/wp-content/uploads/2025/06/IBAWorkshop.png
END:VEVENT
BEGIN:VEVENT
DTSTART;TZID=Australia/Adelaide:20260526T100000
DTEND;TZID=Australia/Adelaide:20260526T130000
DTSTAMP:20260420T190358
CREATED:20260323T225857Z
LAST-MODIFIED:20260323T225857Z
UID:6277-1779789600-1779800400@thecircle.sa.gov.au
SUMMARY:Stretton Centre - Strategic Marketing for Small Business Growth
DESCRIPTION:Marketing should be a predictable driver of revenue\, not a constant guessing game! \n  \nFor many small businesses\, the biggest barrier to growth isn’t a lack of effort — it’s not having a clear and current marketing strategy. \n  \nThis practical 3-hour intensive workshop is designed to help local business owners move from reactive\, “hit-or-miss” promotion to a simple\, structured approach that consistently attracts new clients & increases sales potentials. \n  \nWhether you’re a new business establishing your presence in the northern suburbs or an established Playford business ready to grow\, this workshop will give you the clarity and confidence to focus your marketing on what actually works! \n  \nRather than chasing every new digital trend\, the workshop will focus on: \n– The core fundamentals of customer attraction \n– Understanding how your customers decide to buy \n– How to position your business as a trusted local provider \n– Prioritise your marketing activities so that they deliver the strongest return on investment \n  \nBy the end of the session\, participants won’t just leave with ideas; you will walk away with a clear 90-day marketing action plan tailored to your business. \n  \nMeet your presenter- Bec Alison (Marketing Consultant) \nBec Alison is a marketing consultant who helps small businesses simplify their marketing and build systems they can realistically maintain. She specialises in turning complex marketing strategies into clear\, practical workflows that fit alongside running a business\, not on top of it. Bec’s approach is strategy-led\, hands-on\, and focused on sustainable results rather than trends.
URL:https://thecircle.sa.gov.au/event/stretton-centre-strategic-marketing-for-small-business-growth/
LOCATION:Stretton Centre\, 307 Peachey Road\, MUNNO PARA\, SA\, 5115\, Australia
ATTACH;FMTTYPE=image/png:https://thecircle.sa.gov.au/wp-content/uploads/2026/03/SC-SMSBG.png
ORGANIZER;CN="Stretton Centre":MAILTO:connect@strettoncentre.com.au
END:VEVENT
BEGIN:VEVENT
DTSTART;TZID=Australia/Adelaide:20260526T103000
DTEND;TZID=Australia/Adelaide:20260526T120000
DTSTAMP:20260420T190358
CREATED:20260323T223907Z
LAST-MODIFIED:20260323T223907Z
UID:6259-1779791400-1779796800@thecircle.sa.gov.au
SUMMARY:Australian Tax Office - Open Forums Series - VIRTUAL
DESCRIPTION:Payday Super update & Small Business Superannuation Clearing House closure\n• Employer’s Payday super obligations\n• Our approach to compliance\n• How to correct mistakes\n• Small Business Superannuation Clearing House (SBSCH) closing reminder \nFringe Benefits Tax & dual cab utes\n• Identifying a significant breach\n• Reasonable grounds\n• Reporting obligations \nCyber Security – Scams and Cyber safety\n• Cyber hygiene – Strong passwords\, MFA\, updates\, safe email habits\n• ATO Impersonation scams – Common tactics\, warning signs\, how to verify\n• Tax time threats – Phishing\, fake refunds\, audits etc\n• Resources – ATO scam alerts\, ACSC\, IDCARE\, cyber.gov.au
URL:https://thecircle.sa.gov.au/event/australian-tax-office-open-forums-series-virtual-2/
LOCATION:Online
ATTACH;FMTTYPE=image/png:https://thecircle.sa.gov.au/wp-content/uploads/2026/02/ATO.png
END:VEVENT
END:VCALENDAR