BEGIN:VCALENDAR
VERSION:2.0
PRODID:-//The Circle - ECPv6.15.20//NONSGML v1.0//EN
CALSCALE:GREGORIAN
METHOD:PUBLISH
X-WR-CALNAME:The Circle
X-ORIGINAL-URL:https://thecircle.sa.gov.au
X-WR-CALDESC:Events for The Circle
REFRESH-INTERVAL;VALUE=DURATION:PT1H
X-Robots-Tag:noindex
X-PUBLISHED-TTL:PT1H
BEGIN:VTIMEZONE
TZID:Australia/Adelaide
BEGIN:STANDARD
TZOFFSETFROM:+1030
TZOFFSETTO:+0930
TZNAME:ACST
DTSTART:20250405T163000
END:STANDARD
BEGIN:DAYLIGHT
TZOFFSETFROM:+0930
TZOFFSETTO:+1030
TZNAME:ACDT
DTSTART:20251004T163000
END:DAYLIGHT
BEGIN:STANDARD
TZOFFSETFROM:+1030
TZOFFSETTO:+0930
TZNAME:ACST
DTSTART:20260404T163000
END:STANDARD
BEGIN:DAYLIGHT
TZOFFSETFROM:+0930
TZOFFSETTO:+1030
TZNAME:ACDT
DTSTART:20261003T163000
END:DAYLIGHT
BEGIN:STANDARD
TZOFFSETFROM:+1030
TZOFFSETTO:+0930
TZNAME:ACST
DTSTART:20270403T163000
END:STANDARD
BEGIN:DAYLIGHT
TZOFFSETFROM:+0930
TZOFFSETTO:+1030
TZNAME:ACDT
DTSTART:20271002T163000
END:DAYLIGHT
END:VTIMEZONE
BEGIN:VEVENT
DTSTART;TZID=Australia/Adelaide:20260428T103000
DTEND;TZID=Australia/Adelaide:20260428T111500
DTSTAMP:20260420T184953
CREATED:20260323T232433Z
LAST-MODIFIED:20260323T232433Z
UID:6284-1777372200-1777374900@thecircle.sa.gov.au
SUMMARY:LegalVision – Buying a Business: The Roadmap From Offer to Settlement In partnership with Bonza Business Brokers - VIRTUAL
DESCRIPTION:Buying a business can be an exciting opportunity. But without the right preparation\, you could miss key risks before the deal is finalised. \nFrom your first inquiry through to settlement\, understanding how to approach the seller\, review the business and structure the transaction is essential to making a confident and informed purchase. \n  \nTo help you understand the process\, LegalVision\, together with our partner Bonza Business Brokers\, is hosting a free webinar on Buying a Business: The Roadmap From Offer to Settlement. \nJoin us on Tuesday\, 28 April\, when Morgan Sheargold (LegalVision)\, together with Matthew Newton (Bonza Business Brokers) and Ellie Watford (LegalVision) as MC\, will discuss: \n\nhow to position yourself as a credible buyer from the first enquiry;\ndue diligence essentials from a legal\, commercial and financial perspective;\nthe main deal structures and whether the purchase price can include deferred payments;\nthe purpose of heads of agreement and sale agreements;\nhow warranties\, indemnities and conditions precedent help manage risk; and\nthe final steps to completion\, including settlement and handover.\n\nAttend the webinar live and you will be entered into our monthly draw to win Apple AirPods. Simply share your contact details during the webinar to take part. \n  \n\n\nAbout Morgan Sheargold\nMorgan is a Practice Leader at LegalVision with specialist expertise in Corporate Law\, particularly private treaty mergers and acquisitions and general corporate advisory. She has advised private companies\, government bodies and investors on a range of complex transactions\, including multi-jurisdictional deals\, capital raising and strategic exits. \nAbout Matthew Newton\nMatthew is Bonza’s General Manager and Head Broker\, overseeing operations and leading the broker team. A strategic problem-solver\, he focuses on structure\, efficiency\, and better outcomes for clients. \nAbout Ellie Watford\nEllie Watford is a Lawyer at LegalVision specialising in capital raising and M&A. She began her career researching cyber security and privacy law\, presenting at RUMLAE 2023 on directors’ duties and cyber breaches\, and co-authoring an Australian Law Journal article on biometric data. \n  \nAbout LegalVision\nLegalVision is a commercial law firm that provides unlimited legal support to SMEs and in-house teams through a fixed-fee membership. We help businesses manage all aspects of commercial and corporate law\, including employment law\, commercial contracts\, mergers & acquisitions\, intellectual property and business disputes with fast\, practical advice\, using custom-built tech to deliver predictable pricing and on-demand access to specialist lawyers across the UK\, Australia and New Zealand. Visit legalvision.com.au or call 1300 544 755 to get in touch with our team.
URL:https://thecircle.sa.gov.au/event/legalvision-buying-a-business-the-roadmap-from-offer-to-settlement-in-partnership-with-bonza-business-brokers-virtual/
LOCATION:Online
ATTACH;FMTTYPE=image/png:https://thecircle.sa.gov.au/wp-content/uploads/2026/01/LV.png
END:VEVENT
BEGIN:VEVENT
DTSTART;TZID=Australia/Adelaide:20260428T153000
DTEND;TZID=Australia/Adelaide:20260428T183000
DTSTAMP:20260420T184953
CREATED:20260414T055228Z
LAST-MODIFIED:20260414T055228Z
UID:6349-1777390200-1777401000@thecircle.sa.gov.au
SUMMARY:Indigenous Business Australia – Budgeting and Finance Strategy – VIRTUAL
DESCRIPTION:Learn about basic financial management and budgeting for business at this workshop. During this session you will learn about key financial concepts and develop budgets using a specially designed spreadsheet budgeting tool. \nTopics include:\n• key financial terms\n• financial reports for small business.\n• why numbers matter\n• understanding budgeting and forecasting\n• creating a budget\n• finance sources\n• industry analysis using PESTLE\n• pricing your product or service.
URL:https://thecircle.sa.gov.au/event/indigenous-business-australia-budgeting-and-finance-strategy-virtual-2/
LOCATION:Online
ATTACH;FMTTYPE=image/png:https://thecircle.sa.gov.au/wp-content/uploads/2025/06/IBAWorkshop.png
END:VEVENT
END:VCALENDAR