BEGIN:VCALENDAR
VERSION:2.0
PRODID:-//The Circle - ECPv6.15.20//NONSGML v1.0//EN
CALSCALE:GREGORIAN
METHOD:PUBLISH
X-WR-CALNAME:The Circle
X-ORIGINAL-URL:https://thecircle.sa.gov.au
X-WR-CALDESC:Events for The Circle
REFRESH-INTERVAL;VALUE=DURATION:PT1H
X-Robots-Tag:noindex
X-PUBLISHED-TTL:PT1H
BEGIN:VTIMEZONE
TZID:Australia/Adelaide
BEGIN:STANDARD
TZOFFSETFROM:+1030
TZOFFSETTO:+0930
TZNAME:ACST
DTSTART:20250405T163000
END:STANDARD
BEGIN:DAYLIGHT
TZOFFSETFROM:+0930
TZOFFSETTO:+1030
TZNAME:ACDT
DTSTART:20251004T163000
END:DAYLIGHT
BEGIN:STANDARD
TZOFFSETFROM:+1030
TZOFFSETTO:+0930
TZNAME:ACST
DTSTART:20260404T163000
END:STANDARD
BEGIN:DAYLIGHT
TZOFFSETFROM:+0930
TZOFFSETTO:+1030
TZNAME:ACDT
DTSTART:20261003T163000
END:DAYLIGHT
BEGIN:STANDARD
TZOFFSETFROM:+1030
TZOFFSETTO:+0930
TZNAME:ACST
DTSTART:20270403T163000
END:STANDARD
BEGIN:DAYLIGHT
TZOFFSETFROM:+0930
TZOFFSETTO:+1030
TZNAME:ACDT
DTSTART:20271002T163000
END:DAYLIGHT
END:VTIMEZONE
BEGIN:VEVENT
DTSTART;TZID=Australia/Adelaide:20260423T093000
DTEND;TZID=Australia/Adelaide:20260423T123000
DTSTAMP:20260420T185004
CREATED:20260323T221058Z
LAST-MODIFIED:20260323T221058Z
UID:6239-1776936600-1776947400@thecircle.sa.gov.au
SUMMARY:Indigenous Business Australia – Your Business and IBA – VIRTUAL
DESCRIPTION:Do you have an idea for a business? Or are you just starting out and want to find out more? This info session is a great place to start! \nTopics include:\n• What is business\, why go into business and are you ready\n• Business success\, risks and challenges\n• Business preparation and planning\n• Developing and testing your business idea\n• Business essentials workshops and how they fit into your plan\n• Business development learner guide (supplied) and how to use it.\n• IBA\, your business and how we can help. \nAt the end of this introductory session\, you should be able to decide whether to continue your business journey and work out your next steps.
URL:https://thecircle.sa.gov.au/event/indigenous-business-australia-your-business-and-iba-virtual/
LOCATION:Online
ATTACH;FMTTYPE=image/png:https://thecircle.sa.gov.au/wp-content/uploads/2025/06/IBAWorkshop.png
END:VEVENT
BEGIN:VEVENT
DTSTART;TZID=Australia/Adelaide:20260423T103000
DTEND;TZID=Australia/Adelaide:20260423T111500
DTSTAMP:20260420T185004
CREATED:20260313T001113Z
LAST-MODIFIED:20260313T001113Z
UID:6179-1776940200-1776942900@thecircle.sa.gov.au
SUMMARY:LegalVision – You've Been Hacked! Legal Steps and Duties After a Data Breach – VIRTUAL
DESCRIPTION:When your business experiences a data breach\, the immediate questions are practical and urgent: do you need to notify anyone\, and if so\, how long do you have to act? Getting those steps wrong can quickly escalate your legal risk and consequences. \nTo help you meet your obligations\, LegalVision is hosting a free webinar on You’ve Been Hacked! Legal Steps and Duties After a Data Breach. \nJoin us on Thursday\, 23 April\, when Rebecca Wood (Practice Group Leader) will discuss: \n\nwhat the law considers to be a notifiable data breach;\nthe 30-day assessment rule and your response timeline;\nwho you must notify and what to say; and\nhow to create a practical data breach response plan to prepare for and manage incidents.\n\nAttend the webinar live and you will be entered into our monthly draw to win Apple AirPods. Simply share your contact details during the webinar to take part. \n  \n\n\nAbout Rebecca Wood\nRebecca is the Practice Group Leader of LegalVision’s Disputes and Litigation team. Specialising in commercial litigation\, Rebecca has played a pivotal role in successfully resolving a diverse range of complex disputes. Additionally\, she possesses comprehensive knowledge in handling negligence claims involving public and product liability. Rebecca also has substantial experience in providing regulatory advice and navigating responses to investigations conducted by regulatory bodies. \n  \nAbout LegalVision\nLegalVision is a commercial law firm that provides unlimited legal support to SMEs and in-house teams through a fixed-fee membership. We help businesses manage all aspects of commercial and corporate law\, including employment law\, commercial contracts\, mergers & acquisitions\, intellectual property and business disputes with fast\, practical advice\, using custom-built tech to deliver predictable pricing and on-demand access to specialist lawyers across Australia\, New Zealand\, and the UK. Visit legalvision.com.au or call 1300 544 755 to contact our team.
URL:https://thecircle.sa.gov.au/event/legalvision-youve-been-hacked-legal-steps-and-duties-after-a-data-breach-virtual/
LOCATION:Online
ATTACH;FMTTYPE=image/png:https://thecircle.sa.gov.au/wp-content/uploads/2026/01/LV.png
END:VEVENT
END:VCALENDAR