BEGIN:VCALENDAR
VERSION:2.0
PRODID:-//The Circle - ECPv6.15.20//NONSGML v1.0//EN
CALSCALE:GREGORIAN
METHOD:PUBLISH
X-WR-CALNAME:The Circle
X-ORIGINAL-URL:https://thecircle.sa.gov.au
X-WR-CALDESC:Events for The Circle
REFRESH-INTERVAL;VALUE=DURATION:PT1H
X-Robots-Tag:noindex
X-PUBLISHED-TTL:PT1H
BEGIN:VTIMEZONE
TZID:Australia/Adelaide
BEGIN:STANDARD
TZOFFSETFROM:+1030
TZOFFSETTO:+0930
TZNAME:ACST
DTSTART:20250405T163000
END:STANDARD
BEGIN:DAYLIGHT
TZOFFSETFROM:+0930
TZOFFSETTO:+1030
TZNAME:ACDT
DTSTART:20251004T163000
END:DAYLIGHT
BEGIN:STANDARD
TZOFFSETFROM:+1030
TZOFFSETTO:+0930
TZNAME:ACST
DTSTART:20260404T163000
END:STANDARD
BEGIN:DAYLIGHT
TZOFFSETFROM:+0930
TZOFFSETTO:+1030
TZNAME:ACDT
DTSTART:20261003T163000
END:DAYLIGHT
BEGIN:STANDARD
TZOFFSETFROM:+1030
TZOFFSETTO:+0930
TZNAME:ACST
DTSTART:20270403T163000
END:STANDARD
BEGIN:DAYLIGHT
TZOFFSETFROM:+0930
TZOFFSETTO:+1030
TZNAME:ACDT
DTSTART:20271002T163000
END:DAYLIGHT
END:VTIMEZONE
BEGIN:VEVENT
DTSTART;TZID=Australia/Adelaide:20260422T103000
DTEND;TZID=Australia/Adelaide:20260422T111500
DTSTAMP:20260420T174111
CREATED:20260313T000939Z
LAST-MODIFIED:20260313T000939Z
UID:6176-1776853800-1776856500@thecircle.sa.gov.au
SUMMARY:LegalVision – Avoiding ACCC Scrutiny: Five Traps in NDIS and Aged Care – VIRTUAL
DESCRIPTION:The Australian Competition and Consumer Commission (ACCC) is watching NDIS and aged care providers more closely than ever – are you confident your business practices will stand up to scrutiny? From misleading advertising to unfair contract terms\, even unintentional missteps can result in hefty penalties and reputational damage. \nTo help you stay compliant and protect your business\, LegalVision is hosting a free webinar on Avoiding ACCC Scrutiny: Five Traps in NDIS and Aged Care. \nJoin us on Wednesday\, 22 April\, when Astrid Rivalland (Practice Leader\, LegalVision) and Nicole Gamerov (Founder & CEO\, MyCareSpace) will answer your questions\, with Stephanie Long (Senior Lawyer\, LegalVision) as the MC\, about: \n\nadvertising your services without misleading clients;\navoiding unfair terms in your service agreements;\nillegally charging different prices for the same service;\nusing testimonials and reviews the right way; and\nunderstanding your obligations under consumer guarantees.\n\nAttend the webinar live and you will be entered into our monthly draw to win Apple AirPods. Simply share your contact details during the webinar to take part. \n  \n\n\nAbout Astrid Rivalland\nAstrid is a Practice Leader in LegalVision’s Corporate and Commercial team. She specialises in providing general commercial and regulatory advice to in-house legal teams in relation to commercial agreements. Astrid has particular experience in commercial contracts\, health and NDIS law. She also has a strong interest in the NDIS and provides advice to both providers and participants. \nAbout Stephanie Long\nStephanie is a Senior Lawyer in LegalVision’s Commercial team. She specialises in commercial contracts and business structuring to help clients achieve their ambitions for their startups and SMEs. \nAbout Nicole Gamerov\nNicole is the Founder and CEO of MyCareSpace and a serial entrepreneur dedicated to making a meaningful impact. She has founded three social enterprises\, MyCareSpace\, Plan Hero\, and The A-List Hub\, to empower people with disabilities. Through connection\, information\, and support\, Nicole and her team are transforming the disability sector for the better. \n  \nAbout LegalVision\nLegalVision is a commercial law firm that provides unlimited legal support to SMEs and in-house teams through a fixed-fee membership. We help businesses manage all aspects of commercial and corporate law\, including employment law\, commercial contracts\, mergers & acquisitions\, intellectual property and business disputes with fast\, practical advice\, using custom-built tech to deliver predictable pricing and on-demand access to specialist lawyers across the UK\, Australia and New Zealand. Visit legalvision.com.au or call 1300 544 755 to get in touch with our team.
URL:https://thecircle.sa.gov.au/event/legalvision-avoiding-accc-scrutiny-five-traps-in-ndis-and-aged-care-virtual/
LOCATION:Online
ATTACH;FMTTYPE=image/png:https://thecircle.sa.gov.au/wp-content/uploads/2026/01/LV.png
END:VEVENT
BEGIN:VEVENT
DTSTART;TZID=Australia/Adelaide:20260422T153000
DTEND;TZID=Australia/Adelaide:20260422T183000
DTSTAMP:20260420T174111
CREATED:20260414T055041Z
LAST-MODIFIED:20260414T055041Z
UID:6347-1776871800-1776882600@thecircle.sa.gov.au
SUMMARY:Indigenous Business Australia – Marketing Fundamentals – VIRTUAL
DESCRIPTION:At this workshop you will hear how applying the fundamental principles of marketing can help to increase awareness of your business and improve the potential for customers to buy from you. \nTopics include:\n• the 4+4Ps of marketing\n• researching the market\n• know your customer\n• branding and storytelling\n• culture in branding\n• developing a marketing strategy. \nBuild your brand\, target your audience and find out what it takes to make your business stand out.
URL:https://thecircle.sa.gov.au/event/indigenous-business-australia-marketing-fundamentals-virtual-5/
LOCATION:Online
ATTACH;FMTTYPE=image/png:https://thecircle.sa.gov.au/wp-content/uploads/2025/06/IBAWorkshop.png
END:VEVENT
BEGIN:VEVENT
DTSTART;TZID=Australia/Adelaide:20260422T160000
DTEND;TZID=Australia/Adelaide:20260422T200000
DTSTAMP:20260420T174111
CREATED:20260323T223245Z
LAST-MODIFIED:20260323T223245Z
UID:6255-1776873600-1776888000@thecircle.sa.gov.au
SUMMARY:Polaris Business Development Centre - Business Fundamentals Group Session
DESCRIPTION:You will learn practical strategies and key fundamentals to successfully grow and scale your business. \n\n\n\n\nRunning and growing your business \nDesigned specifically for individuals who have started and running a business or are looking to revitalize an existing one\, and who already hold an ABN. \nThis workshop\, run in the City of Port Adelaide Enfield is developed and presented by experienced business owners and mentors from the Polaris Centre\, specifically for the businesses in the City of Port Adelaide Enfield region who are already operating and hold an ABN. \nBENEFITS of this workshop for YOU: \n\nWhat you need to know about being in business!\nHow to price your products or services?\nThe importance of business planning\nWays to achieve and optimize profits!\nHow MARKETING can Transform and Accelerate growth!\nLearn how to sell more than your competitors and;\nEnjoy the work you do\n\nYou will also receive a comprehensive workshop manual and 1 hour of private business consultation\, at a time that suits you\, to receive this you need to create your own account with the Polaris Centre just click here. A light meal will be served so please email Janet if you have any dietary requirements. \nPlaces are limited! Book Your FREE Seat Now! Please ensure you arrive at 3.45pm for a 4pm prompt start. \nFor information please email Janet Wootton at jwootton@salisbury.sa.gov.au or visit our website www.polariscentre.com.auwww.polariscentre.com.au.
URL:https://thecircle.sa.gov.au/event/polaris-business-development-centre-business-fundamentals-group-session-2/
LOCATION:Parks Library\, 46 Trafford Street\, ANGLE PARK\, SA\, 5010\, Australia
ATTACH;FMTTYPE=image/png:https://thecircle.sa.gov.au/wp-content/uploads/2026/03/PBDC-PBFGS-Enfield.png
ORGANIZER;CN="Polaris Business Development Centre":MAILTO:polaris@salisbury.sa.gov.au
END:VEVENT
BEGIN:VEVENT
DTSTART;TZID=Australia/Adelaide:20260422T170000
DTEND;TZID=Australia/Adelaide:20260422T210000
DTSTAMP:20260420T174111
CREATED:20260203T220435Z
LAST-MODIFIED:20260203T220435Z
UID:5945-1776877200-1776891600@thecircle.sa.gov.au
SUMMARY:The Polaris Centre - Polaris Business Fundamentals Group Session - City of Port Adelaide Enfield
DESCRIPTION:You will learn practical strategies and key fundamentals to successfully grow and scale your business. \n\n\n\n\nRunning and growing your business \nDesigned specifically for individuals who have started and running a business or are looking to revitalize an existing one\, and who already hold an ABN. \nThis workshop\, run in the City of Port Adelaide Enfield is developed and presented by experienced business owners and mentors from the Polaris Centre\, specifically for the businesses in the City of Port Adelaide Enfield region who are already operating and hold an ABN. \nBENEFITS of this workshop for YOU: \n\nWhat you need to know about being in business!\nHow to price your products or services?\nThe importance of business planning\nWays to achieve and optimize profits!\nHow MARKETING can Transform and Accelerate growth!\nLearn how to sell more than your competitors and;\nEnjoy the work you do\n\nYou will also receive a comprehensive workshop manual and 1 hour of private business consultation\, at a time that suits you\, to receive this you need to create your own account with the Polaris Centre just click here. A light meal will be served so please email Janet if you have any dietary requirements. \nPlaces are limited! Book Your FREE Seat Now! Please ensure you arrive at 3.45pm for a 4pm prompt start. \nFor information please email Janet Wootton at jwootton@salisbury.sa.gov.au or visit our website www.polariscentre.com.au.
URL:https://thecircle.sa.gov.au/event/the-polaris-centre-polaris-business-fundamentals-group-session-city-of-port-adelaide-enfield/
LOCATION:Parks Library\, 46 Trafford Street\, ANGLE PARK\, SA\, 5010\, Australia
ATTACH;FMTTYPE=image/png:https://thecircle.sa.gov.au/wp-content/uploads/2026/02/CPAE-PBFGS.png
END:VEVENT
END:VCALENDAR