BEGIN:VCALENDAR
VERSION:2.0
PRODID:-//The Circle - ECPv6.15.20//NONSGML v1.0//EN
CALSCALE:GREGORIAN
METHOD:PUBLISH
X-ORIGINAL-URL:https://thecircle.sa.gov.au
X-WR-CALDESC:Events for The Circle
REFRESH-INTERVAL;VALUE=DURATION:PT1H
X-Robots-Tag:noindex
X-PUBLISHED-TTL:PT1H
BEGIN:VTIMEZONE
TZID:Australia/Adelaide
BEGIN:STANDARD
TZOFFSETFROM:+1030
TZOFFSETTO:+0930
TZNAME:ACST
DTSTART:20250405T163000
END:STANDARD
BEGIN:DAYLIGHT
TZOFFSETFROM:+0930
TZOFFSETTO:+1030
TZNAME:ACDT
DTSTART:20251004T163000
END:DAYLIGHT
BEGIN:STANDARD
TZOFFSETFROM:+1030
TZOFFSETTO:+0930
TZNAME:ACST
DTSTART:20260404T163000
END:STANDARD
BEGIN:DAYLIGHT
TZOFFSETFROM:+0930
TZOFFSETTO:+1030
TZNAME:ACDT
DTSTART:20261003T163000
END:DAYLIGHT
BEGIN:STANDARD
TZOFFSETFROM:+1030
TZOFFSETTO:+0930
TZNAME:ACST
DTSTART:20270403T163000
END:STANDARD
BEGIN:DAYLIGHT
TZOFFSETFROM:+0930
TZOFFSETTO:+1030
TZNAME:ACDT
DTSTART:20271002T163000
END:DAYLIGHT
END:VTIMEZONE
BEGIN:VEVENT
DTSTART;TZID=Australia/Adelaide:20260415T103000
DTEND;TZID=Australia/Adelaide:20260415T111500
DTSTAMP:20260420T185248
CREATED:20260323T232150Z
LAST-MODIFIED:20260323T232150Z
UID:6282-1776249000-1776251700@thecircle.sa.gov.au
SUMMARY:LegalVision – In-House Counsel Series: Manage Disputes\, Risk & Stakeholders Effectively - VIRTUAL
DESCRIPTION:Commercial disputes are an inevitable reality for in-house counsel\, but they don’t have to derail your business. With the right strategies\, you can prevent conflicts\, manage risks effectively and resolve issues without costly court battles. \nTo help you protect your business\, LegalVision is hosting a free webinar on In-House Counsel Series: Manage Disputes\, Risk & Stakeholders Effectively. \nJoin us on Wednesday\, 15 April\, when Jodie Thomson (Practice Leader) will discuss: \n\nthe cost and risk of commercial disputes;\nkey early prevention tips to avoid disputes;\nfirst steps to take if things go wrong;\ncommunication essentials when dealing with disputes; and\nhow to keep disputes out of court.\n\nAttend the webinar live and you will be entered into our monthly draw to win Apple AirPods. Simply share your contact details during the webinar to take part. \n  \n\n\nAbout Jodie Thomson\nJodie is a Practice Leader in LegalVision’s Disputes and Litigation team. She has more than eight years of experience in commercial litigation\, helping clients solve legal problems\, ranging from contractual disputes to recovering debts\, bankruptcy and corporate insolvency\, and disputes involving employment issues\, commercial leasing and franchising. \n  \nAbout LegalVision\nLegalVision is a commercial law firm that provides flexible legal support to in-house legal teams through our desk extension solution. We help enterprise businesses and in-house counsel manage high-volume BAU legal needs across all aspects of commercial and corporate law\, including contract reviews\, employment matters\, regulatory compliance\, and corporate governance\, giving your team the capacity to focus on business-critical matters. Using custom-built tech to deliver efficient service and on-demand access to specialist lawyers across Australia\, New Zealand\, and the UK. Visit legalvision.com.au/enterprise or call 1300 544 755 to contact our team.
URL:https://thecircle.sa.gov.au/event/legalvision-in-house-counsel-series-manage-disputes-risk-stakeholders-effectively-virtual/
LOCATION:Online
ATTACH;FMTTYPE=image/png:https://thecircle.sa.gov.au/wp-content/uploads/2026/01/LV.png
END:VEVENT
BEGIN:VEVENT
DTSTART;TZID=Australia/Adelaide:20260415T120000
DTEND;TZID=Australia/Adelaide:20260415T140000
DTSTAMP:20260420T185248
CREATED:20260313T034053Z
LAST-MODIFIED:20260313T034053Z
UID:6190-1776254400-1776261600@thecircle.sa.gov.au
SUMMARY:City of Unley - Home Based Business Focus Group - Visitor Economy
DESCRIPTION:Work-from-home businesses are one of the fastest growing segments of Unley’s economy and we know that this comes with unique opportunities and unique challenges. The City of Unley is strengthening support for home-based businesses and we want your input. Your feedback will directly shape how we improve services\, simplify processes\, strengthen communication\, and design future support aligned with the Community Plan Towards 2050 and its focus on a thriving local economy. \nWe are inviting you to attend a two-hour interactive workshop (lunch provided) to help us better understand how to support you to be successful in the City of Unley \nWhy participate? \n·       Influence clearer approvals\, signage and compliance guidance\, \n·       Help shape tailored programs and workshops\, \n·       Strengthen networking and precinct connections\, \n·       Identify barriers such as parking\, visibility\, and regulatory confusion\, and \n·       Contribute to Unley’s long-term economic direction. \nThis is your opportunity to shape real improvements and connect with other local home-based operators. We look forward to meeting you.
URL:https://thecircle.sa.gov.au/event/city-of-unley-home-based-business-focus-group-visitor-economy/
LOCATION:Unley Oval Community Hub\, 1 Trimmer Terrace\, UNLEY\, SA\, 5061\, Australia
ATTACH;FMTTYPE=image/png:https://thecircle.sa.gov.au/wp-content/uploads/2026/03/UB-HBBFG-VisitEco.png
ORGANIZER;CN="City of Unley":MAILTO:pobox1@unley.sa.gov.au
END:VEVENT
BEGIN:VEVENT
DTSTART;TZID=Australia/Adelaide:20260415T170000
DTEND;TZID=Australia/Adelaide:20260415T203000
DTSTAMP:20260420T185248
CREATED:20260323T235739Z
LAST-MODIFIED:20260323T235739Z
UID:6301-1776272400-1776285000@thecircle.sa.gov.au
SUMMARY:Regional Development Australia – Murraylands and Riverland – Small Business Information Session & FREE Marketing Workshop
DESCRIPTION:Find out what opportunities are available to small businesses with an information session from Rural Business Support. \n\nDate: Wednesday 15th April 2026\nTime: 5pm – 6:30pm\nVenue: Meningie Bowling Club\nType: In-person workshop\nCost: FREE\n\nAND \nFree Marketing Workshop by Randall Poole from Reward Design. \nOverview of industry lingo\, small business marketing and websites + more. The workshop will be tailored to meet your needs\, based on your registration answers. \n\nDate: Wednesday 15th April 2026\nTime: 6:30pm – 8:30pm\nVenue: Meningie Bowling Club\nType: In-person workshop\nCost: FREE
URL:https://thecircle.sa.gov.au/event/regional-development-australia-murraylands-and-riverland-small-business-information-session-free-marketing-workshop-2/
LOCATION:Meningie Bowling Club\, Princes Highway (centre of town)\, MENINGIE\, SA\, 5264\, Australia
ATTACH;FMTTYPE=image/png:https://thecircle.sa.gov.au/wp-content/uploads/2026/03/RDAMR-SBIS_MW.png
END:VEVENT
END:VCALENDAR