BEGIN:VCALENDAR
VERSION:2.0
PRODID:-//The Circle - ECPv6.15.20//NONSGML v1.0//EN
CALSCALE:GREGORIAN
METHOD:PUBLISH
X-ORIGINAL-URL:https://thecircle.sa.gov.au
X-WR-CALDESC:Events for The Circle
REFRESH-INTERVAL;VALUE=DURATION:PT1H
X-Robots-Tag:noindex
X-PUBLISHED-TTL:PT1H
BEGIN:VTIMEZONE
TZID:Australia/Adelaide
BEGIN:STANDARD
TZOFFSETFROM:+1030
TZOFFSETTO:+0930
TZNAME:ACST
DTSTART:20250405T163000
END:STANDARD
BEGIN:DAYLIGHT
TZOFFSETFROM:+0930
TZOFFSETTO:+1030
TZNAME:ACDT
DTSTART:20251004T163000
END:DAYLIGHT
BEGIN:STANDARD
TZOFFSETFROM:+1030
TZOFFSETTO:+0930
TZNAME:ACST
DTSTART:20260404T163000
END:STANDARD
BEGIN:DAYLIGHT
TZOFFSETFROM:+0930
TZOFFSETTO:+1030
TZNAME:ACDT
DTSTART:20261003T163000
END:DAYLIGHT
BEGIN:STANDARD
TZOFFSETFROM:+1030
TZOFFSETTO:+0930
TZNAME:ACST
DTSTART:20270403T163000
END:STANDARD
BEGIN:DAYLIGHT
TZOFFSETFROM:+0930
TZOFFSETTO:+1030
TZNAME:ACDT
DTSTART:20271002T163000
END:DAYLIGHT
END:VTIMEZONE
BEGIN:VEVENT
DTSTART;TZID=Australia/Adelaide:20260411T083000
DTEND;TZID=Australia/Adelaide:20260411T153000
DTSTAMP:20260420T185222
CREATED:20260312T225433Z
LAST-MODIFIED:20260312T225433Z
UID:6148-1775896200-1775921400@thecircle.sa.gov.au
SUMMARY:Creative Plus Business – IGNITION SA | Wellbeing Basics for Creatives Workshop | Port Adelaide
DESCRIPTION:Description\n\nPresented by Creative Plus Business with support from the Government of South Australia’s Office for Small and Family Business and the South Australian Small Business Strategy 2023 – 2030. \n  \nWELLBEING BASICS FOR CREATIVES\nUsing creativity for professional work is both rewarding and taxing. Making money from our passion is a privilege\, but burnout is a reality. This workshop discusses at length how creatives can maintain relative balance between flourishing and falling\, while safeguarding inspiration. We also explore practical ways to introduce the concepts of kindness and care into every element of a creative process and organisation. \nWhat you’ll learn: \n\nWellbeing: We’ll explore how physical\, mental\, and emotional well-being are all interconnected and crucial for creative success.\nCreative Wellbeing: Discover how self-care extends to nurturing your creative spark.\nCreative Illness: Learn to identify and overcome roadblocks like imposter syndrome and self-sabotage that can hinder your progress.\nBurnout: Understand the signs and impacts of burnout on creatives and develop strategies to prevent it.\nActionable Techniques: Walk away with practical tools to safeguard your creative wellbeing and integrate it seamlessly into your daily professional life.\n\nBy attending an IGNITION SA workshop or event\, you’ll also gain access to a dedicated private LinkedIn group\, and receive lifetime access to a dropbox of resources and materials to support your ongoing professional development and the growth of your business or creative practice. \n  \nWHAT’S IGNITION SA?\nIGNITION SA is a new program of learning opportunities\, mentoring\, resources\, and online experiences designed to enhance the professional development and wellbeing of South Australia’s creative professionals. It is a two-year program running from August 2025 with the support of the Government of South Australia’s Office for Small and Family Business and the South Australian Small Business Strategy 2023 – 2030 and produced by Creative Plus Business. \nIGNITION SA brings to South Australia four initiatives to help creative businesses and arts professionals come together to learn\, access professional development opportunities\, gain mentorship and guidance\, and build new creative and professional networks. \n  \nWHO’S FACILITATING?\nMonica Davidson – Monica is an award-winning expert on the creative industries\, who began her professional life as a freelance journalist\, performer\, and filmmaker. Monica has a Masters degree in Screen Arts and Business from AFTRS\, and was appointed as Australia’s first Creative Industries Business Advisor in 2013. In 2016 Monica founded the social enterprise Creative Plus Business\, an organisation dedicated to educating creatives about business skills\, financial literacy\, wellbeing\, and marketing. \n  \nACCESSIBILITY\nIf you have any queries or access requirements\, please email hello@creativeplusbusiness.com \n  \nEVENT PHOTOGRAPHY\nPlease note that a photographer may be there to snap images of the event for future marketing purposes and to share on social media. If you do not wish to be photographed during the event please let our team know.
URL:https://thecircle.sa.gov.au/event/creative-plus-business-ignition-sa-wellbeing-basics-for-creatives-workshop-port-adelaide/
LOCATION:Vitalstatistix\, Waterside Workers Hall\, 11 Nile Street\, PORT ADELAIDE\, SA\, 5015\, Australia
ATTACH;FMTTYPE=image/png:https://thecircle.sa.gov.au/wp-content/uploads/2026/03/CPB-IgnitionSA-11.04-PtA.png
ORGANIZER;CN="Creative Plus Business":MAILTO:hello@creativeplusbusiness.com
END:VEVENT
END:VCALENDAR