BEGIN:VCALENDAR
VERSION:2.0
PRODID:-//The Circle - ECPv6.15.20//NONSGML v1.0//EN
CALSCALE:GREGORIAN
METHOD:PUBLISH
X-WR-CALNAME:The Circle
X-ORIGINAL-URL:https://thecircle.sa.gov.au
X-WR-CALDESC:Events for The Circle
REFRESH-INTERVAL;VALUE=DURATION:PT1H
X-Robots-Tag:noindex
X-PUBLISHED-TTL:PT1H
BEGIN:VTIMEZONE
TZID:Australia/Adelaide
BEGIN:STANDARD
TZOFFSETFROM:+1030
TZOFFSETTO:+0930
TZNAME:ACST
DTSTART:20250405T163000
END:STANDARD
BEGIN:DAYLIGHT
TZOFFSETFROM:+0930
TZOFFSETTO:+1030
TZNAME:ACDT
DTSTART:20251004T163000
END:DAYLIGHT
BEGIN:STANDARD
TZOFFSETFROM:+1030
TZOFFSETTO:+0930
TZNAME:ACST
DTSTART:20260404T163000
END:STANDARD
BEGIN:DAYLIGHT
TZOFFSETFROM:+0930
TZOFFSETTO:+1030
TZNAME:ACDT
DTSTART:20261003T163000
END:DAYLIGHT
BEGIN:STANDARD
TZOFFSETFROM:+1030
TZOFFSETTO:+0930
TZNAME:ACST
DTSTART:20270403T163000
END:STANDARD
BEGIN:DAYLIGHT
TZOFFSETFROM:+0930
TZOFFSETTO:+1030
TZNAME:ACDT
DTSTART:20271002T163000
END:DAYLIGHT
END:VTIMEZONE
BEGIN:VEVENT
DTSTART;TZID=Australia/Adelaide:20260119T100000
DTEND;TZID=Australia/Adelaide:20260119T140000
DTSTAMP:20260422T053928
CREATED:20260109T031537Z
LAST-MODIFIED:20260109T031537Z
UID:5841-1768816800-1768831200@thecircle.sa.gov.au
SUMMARY:Alexandrina Council - Managing Stress for Small Business Staff - VIRTUAL
DESCRIPTION:Join our Managing Stress for Small Business Staff Workshop\, offered at no cost thanks to the SA Office for Small & Family Business. \nIn this session\, we explore what stress is\, how it can be both helpful and unhelpful\, and practical ways to manage pressure. Running a small business brings many stressors including finances\, customer challenges\, problem-solving\, and constant demands. Especially at this time of year\, when many people feel stretched thin\, learning about stress and practising management skills can be particularly valuable. \nLearning outcomes: \n\nUnderstand what stress is and how it affects us\nLearn practical skills to manage and reduce stress\nExplore how stress can sometimes be helpful rather than harmful\nUnderstand the effects of chronic stress\nReflect on personal stressors and response patterns\nCreate a personalised stress plan\n\nWe’re excited to share this knowledge and insights based on scientific research to help you live a meaningful and fulfilling life. \nSpots are limited—register now to secure your place. \nOnline via Teams Meeting ID: 486 323 245 983 47 Passcode: dS7cn9MU
URL:https://thecircle.sa.gov.au/event/alexandrina-council-managing-stress-for-small-business-staff-virtual/
LOCATION:Online
ATTACH;FMTTYPE=image/png:https://thecircle.sa.gov.au/wp-content/uploads/2026/01/AC-ManagingStress.png
ORGANIZER;CN="Alexandrina Council":MAILTO:alex@alexandrina.sa.gov.au
END:VEVENT
END:VCALENDAR