BEGIN:VCALENDAR
VERSION:2.0
PRODID:-//The Circle - ECPv6.15.20//NONSGML v1.0//EN
CALSCALE:GREGORIAN
METHOD:PUBLISH
X-WR-CALNAME:The Circle
X-ORIGINAL-URL:https://thecircle.sa.gov.au
X-WR-CALDESC:Events for The Circle
REFRESH-INTERVAL;VALUE=DURATION:PT1H
X-Robots-Tag:noindex
X-PUBLISHED-TTL:PT1H
BEGIN:VTIMEZONE
TZID:Australia/Adelaide
BEGIN:STANDARD
TZOFFSETFROM:+1030
TZOFFSETTO:+0930
TZNAME:ACST
DTSTART:20250405T163000
END:STANDARD
BEGIN:DAYLIGHT
TZOFFSETFROM:+0930
TZOFFSETTO:+1030
TZNAME:ACDT
DTSTART:20251004T163000
END:DAYLIGHT
BEGIN:STANDARD
TZOFFSETFROM:+1030
TZOFFSETTO:+0930
TZNAME:ACST
DTSTART:20260404T163000
END:STANDARD
BEGIN:DAYLIGHT
TZOFFSETFROM:+0930
TZOFFSETTO:+1030
TZNAME:ACDT
DTSTART:20261003T163000
END:DAYLIGHT
BEGIN:STANDARD
TZOFFSETFROM:+1030
TZOFFSETTO:+0930
TZNAME:ACST
DTSTART:20270403T163000
END:STANDARD
BEGIN:DAYLIGHT
TZOFFSETFROM:+0930
TZOFFSETTO:+1030
TZNAME:ACDT
DTSTART:20271002T163000
END:DAYLIGHT
END:VTIMEZONE
BEGIN:VEVENT
DTSTART;TZID=Australia/Adelaide:20260114T133000
DTEND;TZID=Australia/Adelaide:20260114T143000
DTSTAMP:20260422T030330
CREATED:20251202T001623Z
LAST-MODIFIED:20251202T001623Z
UID:5692-1768397400-1768401000@thecircle.sa.gov.au
SUMMARY:The Export Council of Australia - Global Market Opportunities 2026 - VIRTUAL
DESCRIPTION:Kickstart your export strategy for 2026 by gaining insights into the international markets set to offer the greatest growth potential. This online webinar will explore emerging global trends\, evolving regulatory landscapes\, and key market opportunities across multiple regions. \n  \nAttendees will hear from industry experts and market specialists who will share practical strategies to identify promising markets\, navigate compliance requirements\, and position products effectively to meet buyer expectations. The session will also cover approaches to mitigate risks\, leverage digital tools\, and strengthen your global competitiveness. \n  \nWhether you’re looking to expand into new markets\, diversify your export portfolio\, or gain a better understanding of international trade dynamics\, this webinar will provide actionable insights and expert guidance to help you make informed decisions and plan for sustainable growth.
URL:https://thecircle.sa.gov.au/event/the-export-council-of-australia-global-market-opportunities-2026-virtual/
LOCATION:Online
ATTACH;FMTTYPE=image/png:https://thecircle.sa.gov.au/wp-content/uploads/2025/12/ECA-GlobalMarOpps26.png
END:VEVENT
END:VCALENDAR