BEGIN:VCALENDAR
VERSION:2.0
PRODID:-//The Circle - ECPv6.15.20//NONSGML v1.0//EN
CALSCALE:GREGORIAN
METHOD:PUBLISH
X-WR-CALNAME:The Circle
X-ORIGINAL-URL:https://thecircle.sa.gov.au
X-WR-CALDESC:Events for The Circle
REFRESH-INTERVAL;VALUE=DURATION:PT1H
X-Robots-Tag:noindex
X-PUBLISHED-TTL:PT1H
BEGIN:VTIMEZONE
TZID:Australia/Adelaide
BEGIN:STANDARD
TZOFFSETFROM:+1030
TZOFFSETTO:+0930
TZNAME:ACST
DTSTART:20240406T163000
END:STANDARD
BEGIN:DAYLIGHT
TZOFFSETFROM:+0930
TZOFFSETTO:+1030
TZNAME:ACDT
DTSTART:20241005T163000
END:DAYLIGHT
BEGIN:STANDARD
TZOFFSETFROM:+1030
TZOFFSETTO:+0930
TZNAME:ACST
DTSTART:20250405T163000
END:STANDARD
BEGIN:DAYLIGHT
TZOFFSETFROM:+0930
TZOFFSETTO:+1030
TZNAME:ACDT
DTSTART:20251004T163000
END:DAYLIGHT
BEGIN:STANDARD
TZOFFSETFROM:+1030
TZOFFSETTO:+0930
TZNAME:ACST
DTSTART:20260404T163000
END:STANDARD
BEGIN:DAYLIGHT
TZOFFSETFROM:+0930
TZOFFSETTO:+1030
TZNAME:ACDT
DTSTART:20261003T163000
END:DAYLIGHT
END:VTIMEZONE
BEGIN:VEVENT
DTSTART;TZID=Australia/Adelaide:20250226T093000
DTEND;TZID=Australia/Adelaide:20250226T153000
DTSTAMP:20260420T174110
CREATED:20250205T041837Z
LAST-MODIFIED:20250205T041837Z
UID:4581-1740562200-1740583800@thecircle.sa.gov.au
SUMMARY:Be Well Foundations
DESCRIPTION:In this no-cost deep-dive full-day training\, you will get some of the latest scientific insights into ways to improve your mental health and wellbeing. You will explore a variety of mental health topics\, including stress management\, countering thinking traps\, exploring meaning and purpose\, mindfulness\, and much more. \nYou will access a wellbeing assessment providing confidential insights into six key areas: wellbeing\, resilience\, anxiety\, stress\, mood\, and health. Based on your results\, you’ll create a personalised plan to develop ongoing wellbeing habits and integrate activities into your work routine. You will receive a printed workbook summarising the session and practical activities\, an evidence-based activity bank with over 30 wellbeing practices\, and a participation certificate. \nThis training will be held in person in the Murraylands Skills Centre and includes free refreshments and lunch. \nIn this workshop\, we will explore: \n\nFoundational knowledge about mental health\, wellbeing and resilience\nYour personal wellbeing drivers\nThe way stress impacts our body and typical stress responses to look out for\nThe negativity bias and how to overcome it\nA range of practical activities aimed at improving wellbeing resources or reducing challenges\nThe relevance of tailoring these activities to your own unique needs and what may promote or stand in the way of implementing them into your daily routine\nThe importance of habit formation and some tips and tricks to help you build or strengthen your existing wellbeing habits\n\nWe are so excited to share this knowledge\, and insights based on scientific research with you to help you protect and safeguard your own and your staff’s wellbeing. \nSee you there!
URL:https://thecircle.sa.gov.au/event/be-well-foundations/
LOCATION:Murraylands Skills Centre\, 12 Bridge St\, Murray Bridge\, SA\, 5253\, Australia
ORGANIZER;CN="Murraylands Skills Centre":MAILTO:council@murraybridge.sa.gov.au
END:VEVENT
END:VCALENDAR